BEGIN:VCALENDAR
VERSION:2.0
PRODID:spatie/icalendar-generator
DESCRIPTION:Events from Bradfordville Volunteer Fire &amp;amp\; Rescue
X-WR-CALDESC:Events from Bradfordville Volunteer Fire &amp;amp\; Rescue
REFRESH-INTERVAL;VALUE=DURATION:PT1440M
X-PUBLISHED-TTL:PT1440M
BEGIN:VTIMEZONE
TZID:Etc/GMT+0
BEGIN:STANDARD
DTSTART:20250923T090000Z
TZOFFSETFROM:+0000
TZOFFSETTO:+0000
END:STANDARD
END:VTIMEZONE
BEGIN:VTIMEZONE
TZID:UTC
BEGIN:STANDARD
DTSTART:20250723T142838Z
TZOFFSETFROM:+0000
TZOFFSETTO:+0000
END:STANDARD
END:VTIMEZONE
BEGIN:VEVENT
UID:155-4
DTSTAMP:20260419T142838Z
SUMMARY:BVFD Fire Training
LOCATION:Station 28\, or other locations as specified
ORGANIZER;CN=bradfordvillevolunteerfiredepartment:MAILTO:seanruane@hotmail.
 com
RRULE:FREQ=MONTHLY;BYDAY=3SA;UNTIL=20290915T000000Z
DTSTART;TZID=Etc/GMT+0:20260620T090000
DTEND;TZID=Etc/GMT+0:20260620T120000
X-ALT-DESC;FMTTYPE=TEXT/HTML:BVFD holds monthly fire training for departmen
 t responders.
CATEGORIES:General
URL;VALUE=URI:https://bradfordvillefire.org/mc-events/bvfd-fire-training/?m
 c_id=155
METHOD:PUBLISH
END:VEVENT
END:VCALENDAR