BEGIN:VCALENDAR
VERSION:2.0
PRODID:spatie/icalendar-generator
DESCRIPTION:Events from Bradfordville Volunteer Fire &amp;amp\; Rescue
X-WR-CALDESC:Events from Bradfordville Volunteer Fire &amp;amp\; Rescue
REFRESH-INTERVAL;VALUE=DURATION:PT1440M
X-PUBLISHED-TTL:PT1440M
BEGIN:VTIMEZONE
TZID:Etc/GMT+0
BEGIN:STANDARD
DTSTART:20250815T183000Z
TZOFFSETFROM:+0000
TZOFFSETTO:+0000
END:STANDARD
END:VTIMEZONE
BEGIN:VTIMEZONE
TZID:UTC
BEGIN:STANDARD
DTSTART:20250723T130907Z
TZOFFSETFROM:+0000
TZOFFSETTO:+0000
END:STANDARD
END:VTIMEZONE
BEGIN:VEVENT
UID:22-2
DTSTAMP:20260419T130907Z
SUMMARY:EMS Training
LOCATION:Bradfordville School House (6808 Beech Ridge Trail)\, Station 28\,
  or other locations as specified
ORGANIZER;CN=bradfordvillevolunteerfiredepartment:MAILTO:seanruane@hotmail.
 com
RRULE:FREQ=MONTHLY;BYDAY=2TU;UNTIL=20300903T000000Z
DTSTART;TZID=Etc/GMT+0:20260512T183000
DTEND;TZID=Etc/GMT+0:20260512T203000
X-ALT-DESC;FMTTYPE=TEXT/HTML:BVFD holds monthly EMS training for department
  responders.  Members expected and prospective volunteers encouraged.
CATEGORIES:General
URL;VALUE=URI:https://bradfordvillefire.org/mc-events/ems-training/?mc_id=2
 2
METHOD:PUBLISH
END:VEVENT
END:VCALENDAR