BEGIN:VCALENDAR
VERSION:2.0
PRODID:spatie/icalendar-generator
DESCRIPTION:Events from Bradfordville Volunteer Fire &amp;amp\; Rescue
X-WR-CALDESC:Events from Bradfordville Volunteer Fire &amp;amp\; Rescue
REFRESH-INTERVAL;VALUE=DURATION:PT1440M
X-PUBLISHED-TTL:PT1440M
BEGIN:VTIMEZONE
TZID:Etc/GMT+0
BEGIN:STANDARD
DTSTART:20251024T183000Z
TZOFFSETFROM:+0000
TZOFFSETTO:+0000
END:STANDARD
END:VTIMEZONE
BEGIN:VTIMEZONE
TZID:UTC
BEGIN:STANDARD
DTSTART:20250723T163158Z
TZOFFSETFROM:+0000
TZOFFSETTO:+0000
END:STANDARD
END:VTIMEZONE
BEGIN:VEVENT
UID:96-3
DTSTAMP:20260419T163158Z
SUMMARY:Member/Board Meeting
LOCATION:Bradfordville School House (6808 Beech Ridge Trail)
ORGANIZER;CN=bradfordvillevolunteerfiredepartment:MAILTO:seanruane@hotmail.
 com
RRULE:FREQ=MONTHLY;BYDAY=3TU;UNTIL=20290918T000000Z
DTSTART;TZID=Etc/GMT+0:20260721T183000
DTEND;TZID=Etc/GMT+0:20260721T203000
X-ALT-DESC;FMTTYPE=TEXT/HTML:BVFD holds monthly membership meetings to disc
 uss operational and administrative needs.
CATEGORIES:General
URL;VALUE=URI:https://bradfordvillefire.org/mc-events/member-board-meeting/
 ?mc_id=96
METHOD:PUBLISH
END:VEVENT
END:VCALENDAR